BEGIN:VCALENDAR
VERSION:2.0
PRODID:-//ATCIS - ECPv6.15.20//NONSGML v1.0//EN
CALSCALE:GREGORIAN
METHOD:PUBLISH
X-ORIGINAL-URL:https://atcis.org
X-WR-CALDESC:Events for ATCIS
REFRESH-INTERVAL;VALUE=DURATION:PT1H
X-Robots-Tag:noindex
X-PUBLISHED-TTL:PT1H
BEGIN:VTIMEZONE
TZID:America/New_York
BEGIN:DAYLIGHT
TZOFFSETFROM:-0500
TZOFFSETTO:-0400
TZNAME:EDT
DTSTART:20250309T070000
END:DAYLIGHT
BEGIN:STANDARD
TZOFFSETFROM:-0400
TZOFFSETTO:-0500
TZNAME:EST
DTSTART:20251102T060000
END:STANDARD
BEGIN:DAYLIGHT
TZOFFSETFROM:-0500
TZOFFSETTO:-0400
TZNAME:EDT
DTSTART:20260308T070000
END:DAYLIGHT
BEGIN:STANDARD
TZOFFSETFROM:-0400
TZOFFSETTO:-0500
TZNAME:EST
DTSTART:20261101T060000
END:STANDARD
BEGIN:DAYLIGHT
TZOFFSETFROM:-0500
TZOFFSETTO:-0400
TZNAME:EDT
DTSTART:20270314T070000
END:DAYLIGHT
BEGIN:STANDARD
TZOFFSETFROM:-0400
TZOFFSETTO:-0500
TZNAME:EST
DTSTART:20271107T060000
END:STANDARD
END:VTIMEZONE
BEGIN:VEVENT
DTSTART;TZID=America/New_York:20260203T100000
DTEND;TZID=America/New_York:20260203T113000
DTSTAMP:20260423T162258
CREATED:20240803T171029Z
LAST-MODIFIED:20250716T222248Z
UID:2838-1770112800-1770118200@atcis.org
SUMMARY:Mead Art Museum 
DESCRIPTION:The Mead holds the art collection of Amherst College\, celebrated for its American and European paintings\, Mexican ceramics\, Tibetan scroll paintings\, English paneled room\, ancient Assyrian carvings\, Russian avant-garde art\, West African sculpture and Japanese prints. \n\n\n\n \n\n\n\nvenue description: www.amherst.edu/museums/mead
URL:https://atcis.org/event/mead-art-museum/
LOCATION:Mead Art Museum\, Mead Art Museum\, 41 Quadrangle Drive i\, Amherst\, Massachusetts
ATTACH;FMTTYPE=image/jpeg:https://atcis.org/wp-content/uploads/2024/08/criomead.jpg
END:VEVENT
BEGIN:VEVENT
DTSTART;TZID=America/New_York:20260210T100000
DTEND;TZID=America/New_York:20260210T113000
DTSTAMP:20260423T162258
CREATED:20240803T171306Z
LAST-MODIFIED:20250714T191123Z
UID:2842-1770717600-1770723000@atcis.org
SUMMARY:Coffee With Volunteers
DESCRIPTION:These informal gatherings are aimed at meeting up with other RWW members in  volunteers’ houses. Location: one of the volunteer’s house. You will be assigned the name and address of the volunteer in an email prior.
URL:https://atcis.org/event/coffee-with-volunteers-3/
LOCATION:Massachusetts
ATTACH;FMTTYPE=image/png:https://atcis.org/wp-content/uploads/2023/01/image-8.png
END:VEVENT
BEGIN:VEVENT
DTSTART;TZID=America/New_York:20260224T100000
DTEND;TZID=America/New_York:20260224T113000
DTSTAMP:20260423T162258
CREATED:20240812T213922Z
LAST-MODIFIED:20250714T191145Z
UID:2973-1771927200-1771932600@atcis.org
SUMMARY:International Tasting
DESCRIPTION:Bring a prepared sample of your country’s food to share with other RWW members and volunteers. No one will leave this meeting hungry!
URL:https://atcis.org/event/international-tasting-2/
LOCATION:Community Center at University Village\, 990 North Pleasant Street\, Amherst\, MA
ATTACH;FMTTYPE=image/jpeg:https://atcis.org/wp-content/uploads/2024/08/cropitnlFoodTasting.jpg
END:VEVENT
BEGIN:VEVENT
DTSTART;TZID=America/New_York:20260228T093000
DTEND;TZID=America/New_York:20260228T113000
DTSTAMP:20260423T162258
CREATED:20240803T172229Z
LAST-MODIFIED:20260210T211335Z
UID:2846-1772271000-1772278200@atcis.org
SUMMARY:Maple Syrup Tour & Tasting
DESCRIPTION:Join us at the North Hadley Sugar Shack. We will have a tour to see how the sap from the sugar maple trees gets boiled down to make delicious syrup. We also will be invited to taste it on top of a pancake! Coffee or tea will also be included. \n\n\n\nSpace is limited. RSVP required.
URL:https://atcis.org/event/maple-syrup-tour-tasting/
LOCATION:North Hadley Sugar Shack\, 181 River Dr\,
ATTACH;FMTTYPE=image/jpeg:https://atcis.org/wp-content/uploads/2024/08/maplesyrup-e1723500086971.jpg
END:VEVENT
END:VCALENDAR