BEGIN:VCALENDAR
VERSION:2.0
PRODID:-//ATCIS - ECPv6.15.20//NONSGML v1.0//EN
CALSCALE:GREGORIAN
METHOD:PUBLISH
X-WR-CALNAME:ATCIS
X-ORIGINAL-URL:https://atcis.org
X-WR-CALDESC:Events for ATCIS
REFRESH-INTERVAL;VALUE=DURATION:PT1H
X-Robots-Tag:noindex
X-PUBLISHED-TTL:PT1H
BEGIN:VTIMEZONE
TZID:America/New_York
BEGIN:DAYLIGHT
TZOFFSETFROM:-0500
TZOFFSETTO:-0400
TZNAME:EDT
DTSTART:20240310T070000
END:DAYLIGHT
BEGIN:STANDARD
TZOFFSETFROM:-0400
TZOFFSETTO:-0500
TZNAME:EST
DTSTART:20241103T060000
END:STANDARD
BEGIN:DAYLIGHT
TZOFFSETFROM:-0500
TZOFFSETTO:-0400
TZNAME:EDT
DTSTART:20250309T070000
END:DAYLIGHT
BEGIN:STANDARD
TZOFFSETFROM:-0400
TZOFFSETTO:-0500
TZNAME:EST
DTSTART:20251102T060000
END:STANDARD
BEGIN:DAYLIGHT
TZOFFSETFROM:-0500
TZOFFSETTO:-0400
TZNAME:EDT
DTSTART:20260308T070000
END:DAYLIGHT
BEGIN:STANDARD
TZOFFSETFROM:-0400
TZOFFSETTO:-0500
TZNAME:EST
DTSTART:20261101T060000
END:STANDARD
END:VTIMEZONE
BEGIN:VEVENT
DTSTART;TZID=America/New_York:20251202T100000
DTEND;TZID=America/New_York:20251202T113000
DTSTAMP:20260423T194324
CREATED:20240803T165634Z
LAST-MODIFIED:20250714T190808Z
UID:2829-1764669600-1764675000@atcis.org
SUMMARY:Gingerbread Housebuilding
DESCRIPTION:Take this opportunity to learn how to build a gingerbread house.  We will provide the gingerbread\, candies\, and expertise to assist you in making this fun construction project.
URL:https://atcis.org/event/gingerbread-housebuilding/
LOCATION:Community Center at University Village\, 990 North Pleasant Street\, Amherst\, MA
ATTACH;FMTTYPE=image/jpeg:https://atcis.org/wp-content/uploads/2024/08/CropGingerb2.jpg
END:VEVENT
BEGIN:VEVENT
DTSTART;TZID=America/New_York:20251209T100000
DTEND;TZID=America/New_York:20251209T113000
DTSTAMP:20260423T194324
CREATED:20240803T165926Z
LAST-MODIFIED:20250714T190901Z
UID:2831-1765274400-1765279800@atcis.org
SUMMARY:Wreath Making
DESCRIPTION:The wreaths we will be making are circular arrangements of natural materials such as branches and greens from trees\, often with decorations.  Some people put wreaths on their front door in the fall and winter.  This is a fun activity and you’ll be able to bring your wreath home with you!  Please don’t wear nice clothes\, as this activity can be messy. Use your creativity and make a holiday wreath to decorate your home. \n\n\n\nLocation: University Village\, Amherst
URL:https://atcis.org/event/wreath-making/
LOCATION:Community Center at University Village\, 990 North Pleasant Street\, Amherst\, MA
ATTACH;FMTTYPE=image/png:https://atcis.org/wp-content/uploads/2023/07/image-2.png
END:VEVENT
BEGIN:VEVENT
DTSTART;TZID=America/New_York:20251217T100000
DTEND;TZID=America/New_York:20251217T113000
DTSTAMP:20260423T194324
CREATED:20250709T174149Z
LAST-MODIFIED:20250722T192639Z
UID:3141-1765965600-1765971000@atcis.org
SUMMARY:Eric Carle Museum
DESCRIPTION:The Carle is the international champion for picture book art. We collect\, preserve\, and present picture book art for audiences passionate about art and books. \n\n\n\nvenue description: carlemuseum.org
URL:https://atcis.org/event/eric-carle-museum/
LOCATION:Eric Carle Museum\, 125 W Bay Rd\, Amherst\, Massachusetts
ATTACH;FMTTYPE=image/jpeg:https://atcis.org/wp-content/uploads/2025/07/hungrycaterpillar-e1752082867694.jpg
END:VEVENT
END:VCALENDAR