BEGIN:VCALENDAR
VERSION:2.0
PRODID:-//ATCIS - ECPv6.15.20//NONSGML v1.0//EN
CALSCALE:GREGORIAN
METHOD:PUBLISH
X-ORIGINAL-URL:https://atcis.org
X-WR-CALDESC:Events for ATCIS
REFRESH-INTERVAL;VALUE=DURATION:PT1H
X-Robots-Tag:noindex
X-PUBLISHED-TTL:PT1H
BEGIN:VTIMEZONE
TZID:America/New_York
BEGIN:DAYLIGHT
TZOFFSETFROM:-0500
TZOFFSETTO:-0400
TZNAME:EDT
DTSTART:20240310T070000
END:DAYLIGHT
BEGIN:STANDARD
TZOFFSETFROM:-0400
TZOFFSETTO:-0500
TZNAME:EST
DTSTART:20241103T060000
END:STANDARD
BEGIN:DAYLIGHT
TZOFFSETFROM:-0500
TZOFFSETTO:-0400
TZNAME:EDT
DTSTART:20250309T070000
END:DAYLIGHT
BEGIN:STANDARD
TZOFFSETFROM:-0400
TZOFFSETTO:-0500
TZNAME:EST
DTSTART:20251102T060000
END:STANDARD
BEGIN:DAYLIGHT
TZOFFSETFROM:-0500
TZOFFSETTO:-0400
TZNAME:EDT
DTSTART:20260308T070000
END:DAYLIGHT
BEGIN:STANDARD
TZOFFSETFROM:-0400
TZOFFSETTO:-0500
TZNAME:EST
DTSTART:20261101T060000
END:STANDARD
END:VTIMEZONE
BEGIN:VEVENT
DTSTART;TZID=America/New_York:20251104T100000
DTEND;TZID=America/New_York:20251104T113000
DTSTAMP:20260423T233404
CREATED:20240803T164627Z
LAST-MODIFIED:20250714T190733Z
UID:2819-1762250400-1762255800@atcis.org
SUMMARY:UMass Police Station Visit
DESCRIPTION:We will learn about laws in the US\, and provide opportunities to ask knowledgeable officials your questions.  There will be a tour of the police station and a jail cell.UMASS Police Station\, the building next to North Amherst Fire Station
URL:https://atcis.org/event/umass-police-station-visit-2/
LOCATION:UMASS Police Station\, 585 East Pleasant Street\,\, Amherst\, Massachusetts
ATTACH;FMTTYPE=image/jpeg:https://atcis.org/wp-content/uploads/2024/08/UMass-police.jpg
END:VEVENT
BEGIN:VEVENT
DTSTART;TZID=America/New_York:20251118T103000
DTEND;TZID=America/New_York:20251118T120000
DTSTAMP:20260423T233404
CREATED:20240803T165133Z
LAST-MODIFIED:20250714T190216Z
UID:2824-1763461800-1763467200@atcis.org
SUMMARY:Thanksgiving Sampler
DESCRIPTION:Thanksgiving is a time when many Americans gather together to spend time with family and friends\, to give thanks for the harvest\, and to share a meal together. We will relate various accounts of the origins of the holiday\, including some perspectives from the indigenous peoples who lived here prior to the settlers. We then will taste many of the traditional dishes served at an American Thanksgiving. The volunteers will cook. 
URL:https://atcis.org/event/thanksgiving-sampler/
LOCATION:Community Center at University Village\, 990 North Pleasant Street\, Amherst\, MA
ATTACH;FMTTYPE=image/png:https://atcis.org/wp-content/uploads/2023/07/image-9.png
END:VEVENT
END:VCALENDAR