BEGIN:VCALENDAR
VERSION:2.0
PRODID:-//ATCIS - ECPv6.15.20//NONSGML v1.0//EN
CALSCALE:GREGORIAN
METHOD:PUBLISH
X-WR-CALNAME:ATCIS
X-ORIGINAL-URL:https://atcis.org
X-WR-CALDESC:Events for ATCIS
REFRESH-INTERVAL;VALUE=DURATION:PT1H
X-Robots-Tag:noindex
X-PUBLISHED-TTL:PT1H
BEGIN:VTIMEZONE
TZID:America/New_York
BEGIN:DAYLIGHT
TZOFFSETFROM:-0500
TZOFFSETTO:-0400
TZNAME:EDT
DTSTART:20250309T070000
END:DAYLIGHT
BEGIN:STANDARD
TZOFFSETFROM:-0400
TZOFFSETTO:-0500
TZNAME:EST
DTSTART:20251102T060000
END:STANDARD
BEGIN:DAYLIGHT
TZOFFSETFROM:-0500
TZOFFSETTO:-0400
TZNAME:EDT
DTSTART:20260308T070000
END:DAYLIGHT
BEGIN:STANDARD
TZOFFSETFROM:-0400
TZOFFSETTO:-0500
TZNAME:EST
DTSTART:20261101T060000
END:STANDARD
BEGIN:DAYLIGHT
TZOFFSETFROM:-0500
TZOFFSETTO:-0400
TZNAME:EDT
DTSTART:20270314T070000
END:DAYLIGHT
BEGIN:STANDARD
TZOFFSETFROM:-0400
TZOFFSETTO:-0500
TZNAME:EST
DTSTART:20271107T060000
END:STANDARD
END:VTIMEZONE
BEGIN:VEVENT
DTSTART;TZID=America/New_York:20260428T100000
DTEND;TZID=America/New_York:20260428T113000
DTSTAMP:20260423T105113
CREATED:20240812T201834Z
LAST-MODIFIED:20250714T191356Z
UID:2969-1777370400-1777375800@atcis.org
SUMMARY:Drop-in and Chat
DESCRIPTION:These informal gatherings are aimed at meeting up with other RWW members. Activity may include games.
URL:https://atcis.org/event/drop-in-and-chat-5/
LOCATION:Community Center at University Village\, 990 North Pleasant Street\, Amherst\, MA
ATTACH;FMTTYPE=image/png:https://atcis.org/wp-content/uploads/2023/09/image-6-1-e1723154741980.png
END:VEVENT
BEGIN:VEVENT
DTSTART;TZID=America/New_York:20260505T100000
DTEND;TZID=America/New_York:20260505T113000
DTSTAMP:20260423T105113
CREATED:20240803T175112Z
LAST-MODIFIED:20250716T223647Z
UID:2862-1777975200-1777980600@atcis.org
SUMMARY:Hike at Quabbin Visitors Center 
DESCRIPTION:Bring your own lunch for a picnic. The Quabbin Reservoir is one of the largest man-made public water supplies in the United States\, permitting shoreline fishing\, hiking\, bicycling\, walking\, bird watching\, snowshoeing\, and hunting with restrictions. The Quabbin Interpretive Services Program operates the Quabbin Visitor Center and provides general information.venue description: www.mass.gov/locations/quabbin-reservoir
URL:https://atcis.org/event/hike-at-quabbin-visitors-center/
LOCATION:Quabbin Visitor Center\, 100 Winsor Dam Rd\, Belchertown\, Massachusetts\, 01007
ATTACH;FMTTYPE=image/jpeg:https://atcis.org/wp-content/uploads/2024/08/crop3quabbin2022-e1723739961307.jpg
END:VEVENT
BEGIN:VEVENT
DTSTART;TZID=America/New_York:20260512T100000
DTEND;TZID=America/New_York:20260512T100000
DTSTAMP:20260423T105113
CREATED:20250512T140025Z
LAST-MODIFIED:20250716T223737Z
UID:2864-1778580000-1778580000@atcis.org
SUMMARY:Historic Deerfield & Pizza 
DESCRIPTION:Our final meeting of the year will start with a visit to Historic Deerfield\, an authentic 18th century New England Village in the Connecticut River Valley of Massachusetts. We will have a guided tour of several historic houses. We will stroll along the street to see the entire village.  Following the Historic Deerfield tour we will share pizza and salad for lunch. \n\n\n\nvenue description:  www.historic-deerfield.org
URL:https://atcis.org/event/historic-deerfield-pizza/
LOCATION:Historic Deerfield Visitor’s Center\, 80 Old Main St.\, Deerfield\, Massachusetts
ATTACH;FMTTYPE=image/jpeg:https://atcis.org/wp-content/uploads/2024/08/calendarOldDeerfield.jpg
END:VEVENT
END:VCALENDAR