BEGIN:VCALENDAR
VERSION:2.0
PRODID:-//ATCIS - ECPv6.15.20//NONSGML v1.0//EN
CALSCALE:GREGORIAN
METHOD:PUBLISH
X-ORIGINAL-URL:https://atcis.org
X-WR-CALDESC:Events for ATCIS
REFRESH-INTERVAL;VALUE=DURATION:PT1H
X-Robots-Tag:noindex
X-PUBLISHED-TTL:PT1H
BEGIN:VTIMEZONE
TZID:America/New_York
BEGIN:DAYLIGHT
TZOFFSETFROM:-0500
TZOFFSETTO:-0400
TZNAME:EDT
DTSTART:20250309T070000
END:DAYLIGHT
BEGIN:STANDARD
TZOFFSETFROM:-0400
TZOFFSETTO:-0500
TZNAME:EST
DTSTART:20251102T060000
END:STANDARD
BEGIN:DAYLIGHT
TZOFFSETFROM:-0500
TZOFFSETTO:-0400
TZNAME:EDT
DTSTART:20260308T070000
END:DAYLIGHT
BEGIN:STANDARD
TZOFFSETFROM:-0400
TZOFFSETTO:-0500
TZNAME:EST
DTSTART:20261101T060000
END:STANDARD
BEGIN:DAYLIGHT
TZOFFSETFROM:-0500
TZOFFSETTO:-0400
TZNAME:EDT
DTSTART:20270314T070000
END:DAYLIGHT
BEGIN:STANDARD
TZOFFSETFROM:-0400
TZOFFSETTO:-0500
TZNAME:EST
DTSTART:20271107T060000
END:STANDARD
END:VTIMEZONE
BEGIN:VEVENT
DTSTART;TZID=America/New_York:20260331T100000
DTEND;TZID=America/New_York:20260331T233000
DTSTAMP:20260423T141037
CREATED:20250722T024227Z
LAST-MODIFIED:20250722T030359Z
UID:3195-1774951200-1774999800@atcis.org
SUMMARY:Drop-in and Chat
DESCRIPTION:These informal gatherings are aimed at meeting up with other RWW members.
URL:https://atcis.org/event/drop-in-and-chat-3/
LOCATION:Community Center at University Village\, 990 North Pleasant St\, Amherst\, MA
ATTACH;FMTTYPE=image/png:https://atcis.org/wp-content/uploads/2023/07/image-10.png
END:VEVENT
END:VCALENDAR