BEGIN:VCALENDAR
VERSION:2.0
PRODID:-//ATCIS - ECPv6.15.20//NONSGML v1.0//EN
CALSCALE:GREGORIAN
METHOD:PUBLISH
X-WR-CALNAME:ATCIS
X-ORIGINAL-URL:https://atcis.org
X-WR-CALDESC:Events for ATCIS
REFRESH-INTERVAL;VALUE=DURATION:PT1H
X-Robots-Tag:noindex
X-PUBLISHED-TTL:PT1H
BEGIN:VTIMEZONE
TZID:America/New_York
BEGIN:DAYLIGHT
TZOFFSETFROM:-0500
TZOFFSETTO:-0400
TZNAME:EDT
DTSTART:20250309T070000
END:DAYLIGHT
BEGIN:STANDARD
TZOFFSETFROM:-0400
TZOFFSETTO:-0500
TZNAME:EST
DTSTART:20251102T060000
END:STANDARD
BEGIN:DAYLIGHT
TZOFFSETFROM:-0500
TZOFFSETTO:-0400
TZNAME:EDT
DTSTART:20260308T070000
END:DAYLIGHT
BEGIN:STANDARD
TZOFFSETFROM:-0400
TZOFFSETTO:-0500
TZNAME:EST
DTSTART:20261101T060000
END:STANDARD
BEGIN:DAYLIGHT
TZOFFSETFROM:-0500
TZOFFSETTO:-0400
TZNAME:EDT
DTSTART:20270314T070000
END:DAYLIGHT
BEGIN:STANDARD
TZOFFSETFROM:-0400
TZOFFSETTO:-0500
TZNAME:EST
DTSTART:20271107T060000
END:STANDARD
END:VTIMEZONE
BEGIN:VEVENT
DTSTART;TZID=America/New_York:20260310T100000
DTEND;TZID=America/New_York:20260310T113000
DTSTAMP:20260423T173631
CREATED:20240803T172643Z
LAST-MODIFIED:20260218T182156Z
UID:2848-1773136800-1773142200@atcis.org
SUMMARY:Mt. Holyoke College Flower Show\, Atkins Farms
DESCRIPTION:We will be going to the Spring Flower Bulb Show at Mount Holyoke College. First we will visit the Talcott Greenhouse at the college and be reminded that spring is not far away.  \n\n\n\nThe MHC Art Museum is unfortunately closed for renovations\, so on the way home we shall instead stop at Atkins Farms for one of their famous cider donuts\, hot drink and possibly a tour of their store.
URL:https://atcis.org/event/mt-holyoke-college-flower-show-art-museum/
LOCATION:Mount Holyoke College Flower Show\, Lower Lake Road\, South Hadley\, Massachusetts\, 01075
ATTACH;FMTTYPE=image/jpeg:https://atcis.org/wp-content/uploads/2024/08/cropMtHolyokeChrysanth-e1723682953976.jpg
END:VEVENT
END:VCALENDAR