BEGIN:VCALENDAR
VERSION:2.0
PRODID:-//ATCIS - ECPv6.15.20//NONSGML v1.0//EN
CALSCALE:GREGORIAN
METHOD:PUBLISH
X-WR-CALNAME:ATCIS
X-ORIGINAL-URL:https://atcis.org
X-WR-CALDESC:Events for ATCIS
REFRESH-INTERVAL;VALUE=DURATION:PT1H
X-Robots-Tag:noindex
X-PUBLISHED-TTL:PT1H
BEGIN:VTIMEZONE
TZID:America/New_York
BEGIN:DAYLIGHT
TZOFFSETFROM:-0500
TZOFFSETTO:-0400
TZNAME:EDT
DTSTART:20240310T070000
END:DAYLIGHT
BEGIN:STANDARD
TZOFFSETFROM:-0400
TZOFFSETTO:-0500
TZNAME:EST
DTSTART:20241103T060000
END:STANDARD
BEGIN:DAYLIGHT
TZOFFSETFROM:-0500
TZOFFSETTO:-0400
TZNAME:EDT
DTSTART:20250309T070000
END:DAYLIGHT
BEGIN:STANDARD
TZOFFSETFROM:-0400
TZOFFSETTO:-0500
TZNAME:EST
DTSTART:20251102T060000
END:STANDARD
BEGIN:DAYLIGHT
TZOFFSETFROM:-0500
TZOFFSETTO:-0400
TZNAME:EDT
DTSTART:20260308T070000
END:DAYLIGHT
BEGIN:STANDARD
TZOFFSETFROM:-0400
TZOFFSETTO:-0500
TZNAME:EST
DTSTART:20261101T060000
END:STANDARD
END:VTIMEZONE
BEGIN:VEVENT
DTSTART;TZID=America/New_York:20250930T100000
DTEND;TZID=America/New_York:20250930T113000
DTSTAMP:20260424T011351
CREATED:20240721T193544Z
LAST-MODIFIED:20250714T190606Z
UID:2770-1759226400-1759231800@atcis.org
SUMMARY:Coffee With Volunteers
DESCRIPTION:These informal gatherings are aimed at meeting up with other RWW members in one of the Volunteer’s houses. . \n\n\n\nLocation: One of the volunteer’s houses. You will be assigned the name and address of the volunteer in an email prior to the meeting.
URL:https://atcis.org/event/coffee-with-volunteers/
LOCATION:Massachusetts
ATTACH;FMTTYPE=image/jpeg:https://atcis.org/wp-content/uploads/2016/02/coffee-conversation-e1723232040706.jpg
END:VEVENT
END:VCALENDAR