BEGIN:VCALENDAR
VERSION:2.0
PRODID:-//ATCIS - ECPv6.15.20//NONSGML v1.0//EN
CALSCALE:GREGORIAN
METHOD:PUBLISH
X-ORIGINAL-URL:https://atcis.org
X-WR-CALDESC:Events for ATCIS
REFRESH-INTERVAL;VALUE=DURATION:PT1H
X-Robots-Tag:noindex
X-PUBLISHED-TTL:PT1H
BEGIN:VTIMEZONE
TZID:America/New_York
BEGIN:DAYLIGHT
TZOFFSETFROM:-0500
TZOFFSETTO:-0400
TZNAME:EDT
DTSTART:20240310T070000
END:DAYLIGHT
BEGIN:STANDARD
TZOFFSETFROM:-0400
TZOFFSETTO:-0500
TZNAME:EST
DTSTART:20241103T060000
END:STANDARD
BEGIN:DAYLIGHT
TZOFFSETFROM:-0500
TZOFFSETTO:-0400
TZNAME:EDT
DTSTART:20250309T070000
END:DAYLIGHT
BEGIN:STANDARD
TZOFFSETFROM:-0400
TZOFFSETTO:-0500
TZNAME:EST
DTSTART:20251102T060000
END:STANDARD
BEGIN:DAYLIGHT
TZOFFSETFROM:-0500
TZOFFSETTO:-0400
TZNAME:EDT
DTSTART:20260308T070000
END:DAYLIGHT
BEGIN:STANDARD
TZOFFSETFROM:-0400
TZOFFSETTO:-0500
TZNAME:EST
DTSTART:20261101T060000
END:STANDARD
END:VTIMEZONE
BEGIN:VEVENT
DTSTART;TZID=America/New_York:20250916T100000
DTEND;TZID=America/New_York:20250916T113000
DTSTAMP:20260424T025840
CREATED:20240721T193130Z
LAST-MODIFIED:20250910T235028Z
UID:2766-1758016800-1758022200@atcis.org
SUMMARY:Amherst Walking Tour
DESCRIPTION:Join us for a fun walking tour of downtown Amherst on Tuesday\, September 16th. We will meet at the Bank of America at 10:00 a.m.\, and then walk over to the Visitor Information Center to pick up a map of downtown Amherst. Then we will walk along Main Street to see a few famous sites in Amherst: the Town Hall\, the Common\, Sweetser Park\, the statues of Emily Dickinson and Robert Frost and other attractions. We’ll visit the Amherst History Museum briefly to see the new exhibit “Amherst Then versus Now”. We’ll also find the RWW commemorative brick in Sweetser Park.  \n\n\n\nThere will be snacks and prizes. Hope to see you there! \n\n\n\n Please RSVP.  \n\n\n\nMeet in front of Bank of America\, 1 South Pleasant Street\, Amherst
URL:https://atcis.org/event/amherst-walking-tour/
LOCATION:Bank of America\, 1 South Pleasant Street\, Amherst\, Massachusetts
ATTACH;FMTTYPE=image/jpeg:https://atcis.org/wp-content/uploads/2024/07/cropAmherstMa.jpg
END:VEVENT
END:VCALENDAR